BEGIN:VCALENDAR
VERSION:2.0
PRODID:-//wp-events-plugin.com//7.2.3.1//EN
TZID:Europe/Helsinki
X-WR-TIMEZONE:Europe/Helsinki
BEGIN:VEVENT
UID:96@visitnasijarvi.fi
DTSTART;TZID=Europe/Helsinki:20240707T100000
DTEND;TZID=Europe/Helsinki:20240825T170000
DTSTAMP:20240424T103455Z
URL:https://visitnasijarvi.fi/event-recurring/saaristoristeily-ja-brunssi-
 79e-7h/
SUMMARY:Saaristoristeily ja -brunssi 79€\, 7h
DESCRIPTION:Päivä risteillen Näsijärvellä - ruokailu Juhlaravintola Ma
 isassa\, kesto 7 tuntia\, hinta 79€/hlö\nLähtö Mustalahden Satamasta 
 klo 10. Ensimmäinen pysähdys Pimeesalmen Telakalla vajaan 1\,5 tunnin ku
 luttua. Noin klo 11.30 jatkamme Näsijärven toiselle rannalle Koljonselä
 n poikki. Saavumme n. klo 12.30 Maisansaloon.  Juhlaravintolassa nautimme
  herkullisen Saaristobrunssin\, Ruoka sisältyy hintaan. Mahdolliset alkoh
 olijuomat maksetaan ravintolassa. Hinta 79€/hlö sis alv.\n\nPaluumatkal
 le lähdemme klo 14.30. Jätämme ja poimimme matkustajia (osalla polkupy
 örät matkassa mukana) Pimeesalmen telakalla.  Risteilypäivä päättyy
  Mustalahden satamaan n. klo 17.00. Laivamatkalla kahvia ja virvokkeita my
 ynnissä kohtuuhintaan. Laivalla ei ole alkoholin myyntioikeuksia\, niinp
 ä omat kuohu-ym. juomat sallitaan. Aluksena MS Nottbeck (varalla MS Intti
 ).\n\nVaraa liput verkossa.  Risteily toteutuu\, kun kymmenen henkeä on 
 ilmoittautunut kolme vuorokautta ennen lähtöä. Paikkoja on rajoitetusti
 \, joten kannattaa varata hyvissä ajoin.  Lue peruuutusturvasta 10€. A
 lus on rekisteröity 60:lle matkustajalle.
ATTACH;FMTTYPE=image/jpeg:https://visitnasijarvi.fi/wp-content/uploads/202
 4/01/Saaristopaiva-Maisansalo.jpg
CATEGORIES:Saaristopäivä 7h
LOCATION:https://www.google.fi/maps/place/M%2FS+Nottbeck/@61.503589,23.7438
 721,17z/data=!3m1!4b1!4m6!3m5!1s0x468ed90519ae4e67:0xca067d5edf038a3c!8m2!
 3d61.503589!4d23.7460661!16s%2Fg%2F11hzn1xdqm?hl=fi&authuser=0
END:VEVENT
BEGIN:VTIMEZONE
TZID:Europe/Helsinki
X-LIC-LOCATION:Europe/Helsinki
BEGIN:DAYLIGHT
DTSTART:20240331T040000
TZOFFSETFROM:+0200
TZOFFSETTO:+0300
TZNAME:EEST
END:DAYLIGHT
END:VTIMEZONE
END:VCALENDAR