BEGIN:VCALENDAR
VERSION:2.0
PRODID:-//wp-events-plugin.com//7.2.3.1//EN
TZID:Europe/Helsinki
X-WR-TIMEZONE:Europe/Helsinki
BEGIN:VEVENT
UID:164@visitnasijarvi.fi
DTSTART;TZID=Europe/Helsinki:20250803T142000
DTEND;TZID=Europe/Helsinki:20250803T170000
DTSTAMP:20250430T144534Z
URL:https://visitnasijarvi.fi/Events -
 Tapahtumat/maisansalo-pimeesalmen-telakka-mustalahti-2-2025-08-03/
SUMMARY:Maisansalo - Pimeesalmen telakka - Mustalahti
DESCRIPTION:Teisko Maisansalo - Ylöjärvi-Pimeesalmi - Tampereen Mustalaht
 i\n\nPYÖRÄ LAIVAAN - BIKE &amp\; BOAT\nPyörät matkustavat ns. omalla v
 astuulla.\n\nALUS\nYleensä MS Nottbeck -varalla MS Intti.\nLähtö Maisan
 salosta. klo 14:20\, pysähdymme Pimeesalmen Telakalla  n. klo 15:30. Saa
 vumme n. klo 17:00 Mustalahden Satamaan.\n\nTARJOTTAVAT\nLaivamatkalla kah
 via ja virvokkeita myynnissä kohtuuhintaan. Laivalla ei ole alkoholin myy
 ntioikeuksia\, niinpä omat kuohu-ym. juomat sallitaan.\n\nLiput Matkahuol
 losta\n\nAlla olevista linkeistä pääset Matkahuollon verkkokauppaan. Va
 ihda oletuspäivän 10.8.2025 sijaan haluamasi sunnuntai välillä 29.06.2
 5 - 10.08.25\n\n 	\n\n 	klo 10.00 Mustalahdesta: Maisansaloon\,  Pimeesal
 melle\n 	klo 14.20 Maisansalosta:  Mustalahteen\,    Pimeesalmelle\n 	
 klo 11.30 Pimeesalmelta: Maisansaloon\n 	klo 15.30 Pimeesalmelta: Mustalah
 teen\n\n\n\n\n 	\n
ATTACH;FMTTYPE=image/jpeg:https://visitnasijarvi.fi/wp-content/uploads/202
 3/03/@Pyha-Nasi-Valkeakoski_rantajapyora-Hanna-Eronen.jpg
CATEGORIES:PYÖRÄILE LAIVAAN,Tulevat Bike &amp; Boat tapahtumat
END:VEVENT
BEGIN:VTIMEZONE
TZID:Europe/Helsinki
X-LIC-LOCATION:Europe/Helsinki
BEGIN:DAYLIGHT
DTSTART:20250330T040000
TZOFFSETFROM:+0200
TZOFFSETTO:+0300
TZNAME:EEST
END:DAYLIGHT
END:VTIMEZONE
END:VCALENDAR